BEGIN:VCALENDAR
VERSION:2.0
PRODID:-//NADI Kampung Tenang, Labis - ECPv6.15.20//NONSGML v1.0//EN
CALSCALE:GREGORIAN
METHOD:PUBLISH
X-WR-CALNAME:NADI Kampung Tenang, Labis
X-ORIGINAL-URL:https://kgtenang.nadi.my
X-WR-CALDESC:Events for NADI Kampung Tenang, Labis
REFRESH-INTERVAL;VALUE=DURATION:PT1H
X-Robots-Tag:noindex
X-PUBLISHED-TTL:PT1H
BEGIN:VTIMEZONE
TZID:UTC
BEGIN:STANDARD
TZOFFSETFROM:+0000
TZOFFSETTO:+0000
TZNAME:UTC
DTSTART:20230101T000000
END:STANDARD
END:VTIMEZONE
BEGIN:VEVENT
DTSTART;TZID=UTC:20240824T100000
DTEND;TZID=UTC:20240824T120000
DTSTAMP:20260425T194121
CREATED:20240801T094513Z
LAST-MODIFIED:20240801T094513Z
UID:1411-1724493600-1724500800@kgtenang.nadi.my
SUMMARY:Kelas Microsoft Word
DESCRIPTION:Terbuka
URL:https://kgtenang.nadi.my/event/kelas-microsoft-word-3/
LOCATION:NADI Kg Tenang\, NADI Kg Tenang
CATEGORIES:DEFAULT
END:VEVENT
BEGIN:VEVENT
DTSTART;TZID=UTC:20240824T140000
DTEND;TZID=UTC:20240824T160000
DTSTAMP:20260425T194121
CREATED:20240801T094601Z
LAST-MODIFIED:20240801T094601Z
UID:1412-1724508000-1724515200@kgtenang.nadi.my
SUMMARY:Kelas Suntingan Imej Produk
DESCRIPTION:Terbuka
URL:https://kgtenang.nadi.my/event/kelas-suntingan-imej-produk-2/
LOCATION:NADI Kg Tenang\, NADI Kg Tenang
CATEGORIES:DEFAULT
END:VEVENT
END:VCALENDAR