BEGIN:VCALENDAR
VERSION:2.0
PRODID:-//NADI Kampung Tenang, Labis - ECPv6.15.20//NONSGML v1.0//EN
CALSCALE:GREGORIAN
METHOD:PUBLISH
X-WR-CALNAME:NADI Kampung Tenang, Labis
X-ORIGINAL-URL:https://kgtenang.nadi.my
X-WR-CALDESC:Events for NADI Kampung Tenang, Labis
REFRESH-INTERVAL;VALUE=DURATION:PT1H
X-Robots-Tag:noindex
X-PUBLISHED-TTL:PT1H
BEGIN:VTIMEZONE
TZID:UTC
BEGIN:STANDARD
TZOFFSETFROM:+0000
TZOFFSETTO:+0000
TZNAME:UTC
DTSTART:20230101T000000
END:STANDARD
END:VTIMEZONE
BEGIN:VEVENT
DTSTART;TZID=UTC:20240920T100000
DTEND;TZID=UTC:20240920T110000
DTSTAMP:20260425T195202
CREATED:20240901T094012Z
LAST-MODIFIED:20240901T094012Z
UID:1421-1726826400-1726830000@kgtenang.nadi.my
SUMMARY:Kelas E-Pembelajaran (Kuiz Matematik)
DESCRIPTION:Terbuka
URL:https://kgtenang.nadi.my/event/kelas-e-pembelajaran-kuiz-matematik-3/
LOCATION:NADI Kg Tenang\, NADI Kg Tenang
CATEGORIES:DEFAULT
END:VEVENT
BEGIN:VEVENT
DTSTART;TZID=UTC:20240920T110000
DTEND;TZID=UTC:20240920T120000
DTSTAMP:20260425T195202
CREATED:20240901T094106Z
LAST-MODIFIED:20240901T094106Z
UID:1422-1726830000-1726833600@kgtenang.nadi.my
SUMMARY:Kelas E-book
DESCRIPTION:Terbuka
URL:https://kgtenang.nadi.my/event/kelas-e-book/
LOCATION:NADI Kg Tenang\, NADI Kg Tenang
CATEGORIES:DEFAULT
END:VEVENT
BEGIN:VEVENT
DTSTART;TZID=UTC:20240920T143000
DTEND;TZID=UTC:20240920T153000
DTSTAMP:20260425T195202
CREATED:20240901T094148Z
LAST-MODIFIED:20240901T094148Z
UID:1423-1726842600-1726846200@kgtenang.nadi.my
SUMMARY:Advokasi Klik Dengan Bijak di Kelas STEM : GREEN
DESCRIPTION:Terbuka
URL:https://kgtenang.nadi.my/event/advokasi-klik-dengan-bijak-di-kelas-stem-green/
LOCATION:NADI Kg Tenang\, NADI Kg Tenang
CATEGORIES:DEFAULT
END:VEVENT
BEGIN:VEVENT
DTSTART;TZID=UTC:20240920T153000
DTEND;TZID=UTC:20240920T163000
DTSTAMP:20260425T195202
CREATED:20240901T094246Z
LAST-MODIFIED:20240901T094246Z
UID:1424-1726846200-1726849800@kgtenang.nadi.my
SUMMARY:Kelas STEM: Air Honker
DESCRIPTION:Sekolah Rendah
URL:https://kgtenang.nadi.my/event/kelas-stem-air-honker/
LOCATION:NADI Kg Tenang\, NADI Kg Tenang
CATEGORIES:DEFAULT
END:VEVENT
END:VCALENDAR