BEGIN:VCALENDAR
VERSION:2.0
PRODID:-//NADI Kampung Tenang, Labis - ECPv6.15.13.1//NONSGML v1.0//EN
CALSCALE:GREGORIAN
METHOD:PUBLISH
X-WR-CALNAME:NADI Kampung Tenang, Labis
X-ORIGINAL-URL:https://kgtenang.nadi.my
X-WR-CALDESC:Events for NADI Kampung Tenang, Labis
REFRESH-INTERVAL;VALUE=DURATION:PT1H
X-Robots-Tag:noindex
X-PUBLISHED-TTL:PT1H
BEGIN:VTIMEZONE
TZID:UTC
BEGIN:STANDARD
TZOFFSETFROM:+0000
TZOFFSETTO:+0000
TZNAME:UTC
DTSTART:20230101T000000
END:STANDARD
END:VTIMEZONE
BEGIN:VEVENT
DTSTART;TZID=UTC:20241006T080000
DTEND;TZID=UTC:20241006T100000
DTSTAMP:20260422T104938
CREATED:20241002T111022Z
LAST-MODIFIED:20241002T111022Z
UID:1429-1728201600-1728208800@kgtenang.nadi.my
SUMMARY:Advokasi Klik Dengan Bijak di SMK Munshi Ibrahim
DESCRIPTION:Advokasi Klik Dengan Bijak di SMK Munshi Ibrahim
URL:https://kgtenang.nadi.my/event/advokasi-klik-dengan-bijak-di-smk-munshi-ibrahim/
LOCATION:SMK Munshi Ibrahim\, SMK Munshi Ibrahim
CATEGORIES:DEFAULT
END:VEVENT
END:VCALENDAR