BEGIN:VCALENDAR
VERSION:2.0
PRODID:-//NADI Kampung Tenang, Labis - ECPv6.15.13.1//NONSGML v1.0//EN
CALSCALE:GREGORIAN
METHOD:PUBLISH
X-WR-CALNAME:NADI Kampung Tenang, Labis
X-ORIGINAL-URL:https://kgtenang.nadi.my
X-WR-CALDESC:Events for NADI Kampung Tenang, Labis
REFRESH-INTERVAL;VALUE=DURATION:PT1H
X-Robots-Tag:noindex
X-PUBLISHED-TTL:PT1H
BEGIN:VTIMEZONE
TZID:UTC
BEGIN:STANDARD
TZOFFSETFROM:+0000
TZOFFSETTO:+0000
TZNAME:UTC
DTSTART:20230101T000000
END:STANDARD
END:VTIMEZONE
BEGIN:VEVENT
DTSTART;TZID=UTC:20241008T100000
DTEND;TZID=UTC:20241008T110000
DTSTAMP:20260422T124050
CREATED:20241003T100201Z
LAST-MODIFIED:20241003T100201Z
UID:1433-1728381600-1728385200@kgtenang.nadi.my
SUMMARY:Advokasi Klik Dengan Bijak di SMK Kamarul Ariffin
DESCRIPTION:Advokasi Klik Dengan Bijak di SMK Kamarul Ariffin
URL:https://kgtenang.nadi.my/event/advokasi-klik-dengan-bijak-di-smk-kamarul-ariffin/
LOCATION:SMK Kamarul Ariffin\, SMK Kamarul Ariffin
CATEGORIES:DEFAULT
END:VEVENT
END:VCALENDAR