BEGIN:VCALENDAR
VERSION:2.0
PRODID:-//NADI Kampung Tenang, Labis - ECPv6.15.13.1//NONSGML v1.0//EN
CALSCALE:GREGORIAN
METHOD:PUBLISH
X-WR-CALNAME:NADI Kampung Tenang, Labis
X-ORIGINAL-URL:https://kgtenang.nadi.my
X-WR-CALDESC:Events for NADI Kampung Tenang, Labis
REFRESH-INTERVAL;VALUE=DURATION:PT1H
X-Robots-Tag:noindex
X-PUBLISHED-TTL:PT1H
BEGIN:VTIMEZONE
TZID:UTC
BEGIN:STANDARD
TZOFFSETFROM:+0000
TZOFFSETTO:+0000
TZNAME:UTC
DTSTART:20230101T000000
END:STANDARD
END:VTIMEZONE
BEGIN:VEVENT
DTSTART;TZID=UTC:20241106T093000
DTEND;TZID=UTC:20241106T103000
DTSTAMP:20260421T184747
CREATED:20241101T104758Z
LAST-MODIFIED:20241101T104758Z
UID:1477-1730885400-1730889000@kgtenang.nadi.my
SUMMARY:Taklimat NADI dan SAFE & Shield serta 5 perkhidmatan Pintar NADI
DESCRIPTION:Pelajar
URL:https://kgtenang.nadi.my/event/taklimat-nadi-dan-safe-shield-serta-5-perkhidmatan-pintar-nadi-2/
LOCATION:SMK Chaah\, SMK Chaah
CATEGORIES:DEFAULT
END:VEVENT
BEGIN:VEVENT
DTSTART;TZID=UTC:20241106T143000
DTEND;TZID=UTC:20241106T153000
DTSTAMP:20260421T184747
CREATED:20241101T104911Z
LAST-MODIFIED:20241101T104911Z
UID:1479-1730903400-1730907000@kgtenang.nadi.my
SUMMARY:Taklimat NADI dan SAFE & Shield serta 5 perkhidmatan Pintar NADI
DESCRIPTION:Pelajar
URL:https://kgtenang.nadi.my/event/taklimat-nadi-dan-safe-shield-serta-5-perkhidmatan-pintar-nadi-3/
LOCATION:SJK (C) Bukit Siput\, SJK (C) Bukit Siput
CATEGORIES:DEFAULT
END:VEVENT
END:VCALENDAR