BEGIN:VCALENDAR
VERSION:2.0
PRODID:-//NADI Kampung Tenang, Labis - ECPv6.15.13.1//NONSGML v1.0//EN
CALSCALE:GREGORIAN
METHOD:PUBLISH
X-WR-CALNAME:NADI Kampung Tenang, Labis
X-ORIGINAL-URL:https://kgtenang.nadi.my
X-WR-CALDESC:Events for NADI Kampung Tenang, Labis
REFRESH-INTERVAL;VALUE=DURATION:PT1H
X-Robots-Tag:noindex
X-PUBLISHED-TTL:PT1H
BEGIN:VTIMEZONE
TZID:UTC
BEGIN:STANDARD
TZOFFSETFROM:+0000
TZOFFSETTO:+0000
TZNAME:UTC
DTSTART:20230101T000000
END:STANDARD
END:VTIMEZONE
BEGIN:VEVENT
DTSTART;TZID=UTC:20241109T073000
DTEND;TZID=UTC:20241109T163000
DTSTAMP:20260421T225951
CREATED:20241101T105112Z
LAST-MODIFIED:20241101T105112Z
UID:1481-1731137400-1731169800@kgtenang.nadi.my
SUMMARY:Maxis E-Kelas Usahawan
DESCRIPTION:Usahawan
URL:https://kgtenang.nadi.my/event/maxis-e-kelas-usahawan/
LOCATION:Dewan Taman Wira Labis\, Dewan Taman Wira Labis
CATEGORIES:DEFAULT
END:VEVENT
END:VCALENDAR