BEGIN:VCALENDAR
VERSION:2.0
PRODID:-//NADI Kampung Tenang, Labis - ECPv6.15.13.1//NONSGML v1.0//EN
CALSCALE:GREGORIAN
METHOD:PUBLISH
X-WR-CALNAME:NADI Kampung Tenang, Labis
X-ORIGINAL-URL:https://kgtenang.nadi.my
X-WR-CALDESC:Events for NADI Kampung Tenang, Labis
REFRESH-INTERVAL;VALUE=DURATION:PT1H
X-Robots-Tag:noindex
X-PUBLISHED-TTL:PT1H
BEGIN:VTIMEZONE
TZID:UTC
BEGIN:STANDARD
TZOFFSETFROM:+0000
TZOFFSETTO:+0000
TZNAME:UTC
DTSTART:20230101T000000
END:STANDARD
END:VTIMEZONE
BEGIN:VEVENT
DTSTART;TZID=UTC:20241126T073000
DTEND;TZID=UTC:20241126T083000
DTSTAMP:20260421T191023
CREATED:20241101T105457Z
LAST-MODIFIED:20241101T105457Z
UID:1484-1732606200-1732609800@kgtenang.nadi.my
SUMMARY:Taklimat NADI dan SAFE & Shield serta 5 perkhidmatan Pintar NADI
DESCRIPTION:Pelajar
URL:https://kgtenang.nadi.my/event/taklimat-nadi-dan-safe-shield-serta-5-perkhidmatan-pintar-nadi-6/
LOCATION:SK Desa Temu Jodoh\, SK Desa Temu Jodoh
CATEGORIES:DEFAULT
END:VEVENT
END:VCALENDAR