BEGIN:VCALENDAR
VERSION:2.0
PRODID:-//NADI Kampung Tenang, Labis - ECPv6.15.13.1//NONSGML v1.0//EN
CALSCALE:GREGORIAN
METHOD:PUBLISH
X-WR-CALNAME:NADI Kampung Tenang, Labis
X-ORIGINAL-URL:https://kgtenang.nadi.my
X-WR-CALDESC:Events for NADI Kampung Tenang, Labis
REFRESH-INTERVAL;VALUE=DURATION:PT1H
X-Robots-Tag:noindex
X-PUBLISHED-TTL:PT1H
BEGIN:VTIMEZONE
TZID:UTC
BEGIN:STANDARD
TZOFFSETFROM:+0000
TZOFFSETTO:+0000
TZNAME:UTC
DTSTART:20230101T000000
END:STANDARD
END:VTIMEZONE
BEGIN:VEVENT
DTSTART;TZID=UTC:20241210T080000
DTEND;TZID=UTC:20241210T220000
DTSTAMP:20260422T040404
CREATED:20241216T071132Z
LAST-MODIFIED:20241216T071132Z
UID:1507-1733817600-1733868000@kgtenang.nadi.my
SUMMARY:Pameran/taklimat NADI dan SAFE & Shield serta 5 perkhidmatan Pintar NADI
DESCRIPTION:Peserta Pelajar Sekolah
URL:https://kgtenang.nadi.my/event/pameran-taklimat-nadi-dan-safe-shield-serta-5-perkhidmatan-pintar-nadi/
LOCATION:SK Seri Bekok\, SK Seri Bekok
END:VEVENT
BEGIN:VEVENT
DTSTART;TZID=UTC:20241210T153000
DTEND;TZID=UTC:20241210T163000
DTSTAMP:20260422T040404
CREATED:20241216T071323Z
LAST-MODIFIED:20241216T071323Z
UID:1509-1733844600-1733848200@kgtenang.nadi.my
SUMMARY:Kelas NADI Nuture Dilea: Sejarah
DESCRIPTION:Peserta Pelajar Tingkatan 4
URL:https://kgtenang.nadi.my/event/kelas-nadi-nuture-dilea-sejarah/
LOCATION:NADI Kg Tenang\, NADI Kg Tenang
END:VEVENT
END:VCALENDAR