BEGIN:VCALENDAR
VERSION:2.0
PRODID:-//NADI Kampung Tenang, Labis - ECPv6.15.13.1//NONSGML v1.0//EN
CALSCALE:GREGORIAN
METHOD:PUBLISH
X-WR-CALNAME:NADI Kampung Tenang, Labis
X-ORIGINAL-URL:https://kgtenang.nadi.my
X-WR-CALDESC:Events for NADI Kampung Tenang, Labis
REFRESH-INTERVAL;VALUE=DURATION:PT1H
X-Robots-Tag:noindex
X-PUBLISHED-TTL:PT1H
BEGIN:VTIMEZONE
TZID:UTC
BEGIN:STANDARD
TZOFFSETFROM:+0000
TZOFFSETTO:+0000
TZNAME:UTC
DTSTART:20240101T000000
END:STANDARD
END:VTIMEZONE
BEGIN:VEVENT
DTSTART;TZID=UTC:20250103T103000
DTEND;TZID=UTC:20250103T113000
DTSTAMP:20260422T035840
CREATED:20250103T022550Z
LAST-MODIFIED:20250103T022550Z
UID:1626-1735900200-1735903800@kgtenang.nadi.my
SUMMARY:Kelas Webinar NADI Wellbeing: Strategi Penting Cegah Penyakit
DESCRIPTION:
URL:https://kgtenang.nadi.my/event/kelas-webinar-nadi-wellbeing-strategi-penting-cegah-penyakit/
LOCATION:NADI Kg Tenang\, NADI Kg Tenang
END:VEVENT
END:VCALENDAR