BEGIN:VCALENDAR
VERSION:2.0
PRODID:-//NADI Kampung Tenang, Labis - ECPv6.15.13.1//NONSGML v1.0//EN
CALSCALE:GREGORIAN
METHOD:PUBLISH
X-WR-CALNAME:NADI Kampung Tenang, Labis
X-ORIGINAL-URL:https://kgtenang.nadi.my
X-WR-CALDESC:Events for NADI Kampung Tenang, Labis
REFRESH-INTERVAL;VALUE=DURATION:PT1H
X-Robots-Tag:noindex
X-PUBLISHED-TTL:PT1H
BEGIN:VTIMEZONE
TZID:UTC
BEGIN:STANDARD
TZOFFSETFROM:+0000
TZOFFSETTO:+0000
TZNAME:UTC
DTSTART:20240101T000000
END:STANDARD
END:VTIMEZONE
BEGIN:VEVENT
DTSTART;TZID=UTC:20250203T110000
DTEND;TZID=UTC:20250203T120000
DTSTAMP:20260422T023648
CREATED:20250201T091252Z
LAST-MODIFIED:20250201T091252Z
UID:1694-1738580400-1738584000@kgtenang.nadi.my
SUMMARY:Kelas NADI Pembelajaran Sepanjang Hayat: NADI Mahir Jahit
DESCRIPTION:Peserta Terbuka
URL:https://kgtenang.nadi.my/event/kelas-nadi-pembelajaran-sepanjang-hayat-nadi-mahir-jahit/
LOCATION:NADI Kg Tenang\, NADI Kg Tenang
END:VEVENT
BEGIN:VEVENT
DTSTART;TZID=UTC:20250203T153000
DTEND;TZID=UTC:20250203T163000
DTSTAMP:20260422T023648
CREATED:20250201T091441Z
LAST-MODIFIED:20250201T091441Z
UID:1697-1738596600-1738600200@kgtenang.nadi.my
SUMMARY:Kelas NADI Nuture-dilea: Matematik
DESCRIPTION:Peserta Pelajar Tingkatan 5
URL:https://kgtenang.nadi.my/event/kelas-nadi-nuture-dilea-matematik/
LOCATION:NADI Kg Tenang\, NADI Kg Tenang
END:VEVENT
END:VCALENDAR