BEGIN:VCALENDAR
VERSION:2.0
PRODID:-//NADI Kampung Tenang, Labis - ECPv6.15.20//NONSGML v1.0//EN
CALSCALE:GREGORIAN
METHOD:PUBLISH
X-WR-CALNAME:NADI Kampung Tenang, Labis
X-ORIGINAL-URL:https://kgtenang.nadi.my
X-WR-CALDESC:Events for NADI Kampung Tenang, Labis
REFRESH-INTERVAL;VALUE=DURATION:PT1H
X-Robots-Tag:noindex
X-PUBLISHED-TTL:PT1H
BEGIN:VTIMEZONE
TZID:UTC
BEGIN:STANDARD
TZOFFSETFROM:+0000
TZOFFSETTO:+0000
TZNAME:UTC
DTSTART:20230101T000000
END:STANDARD
END:VTIMEZONE
BEGIN:VEVENT
DTSTART;TZID=UTC:20240705T100000
DTEND;TZID=UTC:20240705T120000
DTSTAMP:20260425T184713
CREATED:20240701T091647Z
LAST-MODIFIED:20240701T091647Z
UID:1383-1720173600-1720180800@kgtenang.nadi.my
SUMMARY:Kuiz pembelajaran: Kahoot.it (Bahasa Inggeris)
DESCRIPTION:Sekolah Rendah/Sekolah Menengah
URL:https://kgtenang.nadi.my/event/kuiz-pembelajaran-kahoot-it-bahasa-inggeris/
LOCATION:NADI Kg Tenang\, NADI Kg Tenang
CATEGORIES:DEFAULT
END:VEVENT
BEGIN:VEVENT
DTSTART;TZID=UTC:20240706T100000
DTEND;TZID=UTC:20240706T120000
DTSTAMP:20260425T184713
CREATED:20240701T091750Z
LAST-MODIFIED:20240701T091750Z
UID:1384-1720260000-1720267200@kgtenang.nadi.my
SUMMARY:Kelas Menaip: Kidztype
DESCRIPTION:Terbuka
URL:https://kgtenang.nadi.my/event/kelas-menaip-kidztype/
LOCATION:NADI Kg Tenang\, NADI Kg Tenang
CATEGORIES:DEFAULT
END:VEVENT
BEGIN:VEVENT
DTSTART;TZID=UTC:20240709T100000
DTEND;TZID=UTC:20240709T120000
DTSTAMP:20260425T184713
CREATED:20240701T091846Z
LAST-MODIFIED:20240701T091846Z
UID:1385-1720519200-1720526400@kgtenang.nadi.my
SUMMARY:Kelas Asas Keusahawanan- Facebook Page
DESCRIPTION:Usahawan
URL:https://kgtenang.nadi.my/event/kelas-asas-keusahawanan-facebook-page/
LOCATION:NADI Kg Tenang\, NADI Kg Tenang
CATEGORIES:DEFAULT
END:VEVENT
BEGIN:VEVENT
DTSTART;TZID=UTC:20240710T143000
DTEND;TZID=UTC:20240710T163000
DTSTAMP:20260425T184713
CREATED:20240701T091932Z
LAST-MODIFIED:20240701T091932Z
UID:1386-1720621800-1720629000@kgtenang.nadi.my
SUMMARY:Kelas Canva: Buku Program
DESCRIPTION:Guru Sekolah
URL:https://kgtenang.nadi.my/event/kelas-canva-buku-program/
LOCATION:NADI Kg Tenang\, NADI Kg Tenang
CATEGORIES:DEFAULT
END:VEVENT
BEGIN:VEVENT
DTSTART;TZID=UTC:20240712T100000
DTEND;TZID=UTC:20240712T120000
DTSTAMP:20260425T184713
CREATED:20240701T092012Z
LAST-MODIFIED:20240701T092012Z
UID:1387-1720778400-1720785600@kgtenang.nadi.my
SUMMARY:Kelas Asas Shopee: Muat naik Gambar Produk
DESCRIPTION:Terbuka
URL:https://kgtenang.nadi.my/event/kelas-asas-shopee-muat-naik-gambar-produk-2/
LOCATION:NADI Kg Tenang\, NADI Kg Tenang
CATEGORIES:DEFAULT
END:VEVENT
BEGIN:VEVENT
DTSTART;TZID=UTC:20240713T100000
DTEND;TZID=UTC:20240713T120000
DTSTAMP:20260425T184713
CREATED:20240701T092059Z
LAST-MODIFIED:20240701T092059Z
UID:1388-1720864800-1720872000@kgtenang.nadi.my
SUMMARY:Kelas Powerpoint-Presentation
DESCRIPTION:Terbuka
URL:https://kgtenang.nadi.my/event/kelas-powerpoint-presentation/
LOCATION:NADI Kg Tenang\, NADI Kg Tenang
CATEGORIES:DEFAULT
END:VEVENT
BEGIN:VEVENT
DTSTART;TZID=UTC:20240719T100000
DTEND;TZID=UTC:20240719T120000
DTSTAMP:20260425T184713
CREATED:20240701T092204Z
LAST-MODIFIED:20240701T092204Z
UID:1389-1721383200-1721390400@kgtenang.nadi.my
SUMMARY:Kelas NADI Aerobik
DESCRIPTION:Terbuka
URL:https://kgtenang.nadi.my/event/kelas-nadi-aerobik/
LOCATION:NADI Kg Tenang\, NADI Kg Tenang
CATEGORIES:DEFAULT
END:VEVENT
BEGIN:VEVENT
DTSTART;TZID=UTC:20240719T150000
DTEND;TZID=UTC:20240719T170000
DTSTAMP:20260425T184713
CREATED:20240701T092259Z
LAST-MODIFIED:20240701T092259Z
UID:1390-1721401200-1721408400@kgtenang.nadi.my
SUMMARY:Kelas E-Pembelajaran : Awal Muharram
DESCRIPTION:Sekolah Rendah
URL:https://kgtenang.nadi.my/event/kelas-e-pembelajaran-awal-muharram-2/
LOCATION:NADI Kg Tenang\, NADI Kg Tenang
CATEGORIES:DEFAULT
END:VEVENT
BEGIN:VEVENT
DTSTART;TZID=UTC:20240725T143000
DTEND;TZID=UTC:20240725T163000
DTSTAMP:20260425T184713
CREATED:20240701T092450Z
LAST-MODIFIED:20240701T092450Z
UID:1391-1721917800-1721925000@kgtenang.nadi.my
SUMMARY:Advokasi Klik Dengan Bijak di Program STEM: Rocket Ballon
DESCRIPTION:Sekolah Rendah
URL:https://kgtenang.nadi.my/event/advokasi-klik-dengan-bijak-di-program-stem-rocket-ballon/
LOCATION:NADI Kg Tenang\, NADI Kg Tenang
CATEGORIES:DEFAULT
END:VEVENT
BEGIN:VEVENT
DTSTART;TZID=UTC:20240725T143000
DTEND;TZID=UTC:20240725T163000
DTSTAMP:20260425T184713
CREATED:20240701T092606Z
LAST-MODIFIED:20240701T092606Z
UID:1392-1721917800-1721925000@kgtenang.nadi.my
SUMMARY:Program STEM: Boat Bottle
DESCRIPTION:Sekolah Rendah
URL:https://kgtenang.nadi.my/event/program-stem-boat-bottle/
LOCATION:NADI Kg Tenang\, NADI Kg Tenang
CATEGORIES:DEFAULT
END:VEVENT
BEGIN:VEVENT
DTSTART;TZID=UTC:20240725T143000
DTEND;TZID=UTC:20240725T163000
DTSTAMP:20260425T184713
CREATED:20240701T092658Z
LAST-MODIFIED:20240701T092658Z
UID:1393-1721917800-1721925000@kgtenang.nadi.my
SUMMARY:Program STEM: Lava Lamp
DESCRIPTION:Sekolah Rendah
URL:https://kgtenang.nadi.my/event/program-stem-lava-lamp/
LOCATION:NADI Kg Tenang\, NADI Kg Tenang
CATEGORIES:DEFAULT
END:VEVENT
BEGIN:VEVENT
DTSTART;TZID=UTC:20240726T100000
DTEND;TZID=UTC:20240726T120000
DTSTAMP:20260425T184713
CREATED:20240701T092731Z
LAST-MODIFIED:20240701T092731Z
UID:1394-1721988000-1721995200@kgtenang.nadi.my
SUMMARY:Kelas Sesi Temuduga
DESCRIPTION:Terbuka
URL:https://kgtenang.nadi.my/event/kelas-sesi-temuduga/
LOCATION:NADI Kg Tenang\, NADI Kg Tenang
CATEGORIES:DEFAULT
END:VEVENT
BEGIN:VEVENT
DTSTART;TZID=UTC:20240726T143000
DTEND;TZID=UTC:20240726T163000
DTSTAMP:20260425T184713
CREATED:20240701T092816Z
LAST-MODIFIED:20240701T092816Z
UID:1395-1722004200-1722011400@kgtenang.nadi.my
SUMMARY:Kelas AI Gamma Slide
DESCRIPTION:Terbuka
URL:https://kgtenang.nadi.my/event/kelas-ai-gamma-slide/
LOCATION:NADI Kg Tenang\, NADI Kg Tenang
CATEGORIES:DEFAULT
END:VEVENT
BEGIN:VEVENT
DTSTART;TZID=UTC:20240727T100000
DTEND;TZID=UTC:20240727T120000
DTSTAMP:20260425T184713
CREATED:20240701T092856Z
LAST-MODIFIED:20240701T092856Z
UID:1396-1722074400-1722081600@kgtenang.nadi.my
SUMMARY:Kelas Shopee- Muat naik produk
DESCRIPTION:Terbuka
URL:https://kgtenang.nadi.my/event/kelas-shopee-muat-naik-produk/
LOCATION:NADI Kg Tenang\, NADI Kg Tenang
CATEGORIES:DEFAULT
END:VEVENT
BEGIN:VEVENT
DTSTART;TZID=UTC:20240729T100000
DTEND;TZID=UTC:20240729T120000
DTSTAMP:20260425T184713
CREATED:20240701T092936Z
LAST-MODIFIED:20240701T092936Z
UID:1397-1722247200-1722254400@kgtenang.nadi.my
SUMMARY:Kelas Capcut Editing
DESCRIPTION:Terbuka
URL:https://kgtenang.nadi.my/event/kelas-capcut-editing/
LOCATION:NADI Kg Tenang\, NADI Kg Tenang
CATEGORIES:DEFAULT
END:VEVENT
END:VCALENDAR