BEGIN:VCALENDAR
VERSION:2.0
PRODID:-//NADI Kampung Tenang, Labis - ECPv6.15.20//NONSGML v1.0//EN
CALSCALE:GREGORIAN
METHOD:PUBLISH
X-WR-CALNAME:NADI Kampung Tenang, Labis
X-ORIGINAL-URL:https://kgtenang.nadi.my
X-WR-CALDESC:Events for NADI Kampung Tenang, Labis
REFRESH-INTERVAL;VALUE=DURATION:PT1H
X-Robots-Tag:noindex
X-PUBLISHED-TTL:PT1H
BEGIN:VTIMEZONE
TZID:UTC
BEGIN:STANDARD
TZOFFSETFROM:+0000
TZOFFSETTO:+0000
TZNAME:UTC
DTSTART:20230101T000000
END:STANDARD
END:VTIMEZONE
BEGIN:VEVENT
DTSTART;TZID=UTC:20240802T100000
DTEND;TZID=UTC:20240802T120000
DTSTAMP:20260425T184649
CREATED:20240801T093057Z
LAST-MODIFIED:20240801T093057Z
UID:1398-1722592800-1722600000@kgtenang.nadi.my
SUMMARY:Kelas Animasi Teks (Power Point)
DESCRIPTION:Pengunjung PEDi
URL:https://kgtenang.nadi.my/event/kelas-animasi-teks-power-point/
LOCATION:NADI Kg Tenang\, NADI Kg Tenang
CATEGORIES:DEFAULT
END:VEVENT
BEGIN:VEVENT
DTSTART;TZID=UTC:20240803T100000
DTEND;TZID=UTC:20240803T120000
DTSTAMP:20260425T184649
CREATED:20240801T093159Z
LAST-MODIFIED:20240801T093159Z
UID:1399-1722679200-1722686400@kgtenang.nadi.my
SUMMARY:Kelas E-Pembelajaran (Kuiz Proprofs)
DESCRIPTION:Sekolah Rendah
URL:https://kgtenang.nadi.my/event/kelas-e-pembelajaran-kuiz-proprofs-4/
LOCATION:NADI Kg Tenang\, NADI Kg Tenang
CATEGORIES:DEFAULT
END:VEVENT
BEGIN:VEVENT
DTSTART;TZID=UTC:20240806T100000
DTEND;TZID=UTC:20240806T120000
DTSTAMP:20260425T184649
CREATED:20240801T093246Z
LAST-MODIFIED:20240801T093246Z
UID:1400-1722938400-1722945600@kgtenang.nadi.my
SUMMARY:Kelas AI dalam Perniagaan
DESCRIPTION:Usahawanita AIM
URL:https://kgtenang.nadi.my/event/kelas-ai-dalam-perniagaan/
LOCATION:NADI Kg Tenang\, NADI Kg Tenang
CATEGORIES:DEFAULT
END:VEVENT
BEGIN:VEVENT
DTSTART;TZID=UTC:20240809T100000
DTEND;TZID=UTC:20240809T120000
DTSTAMP:20260425T184649
CREATED:20240801T093350Z
LAST-MODIFIED:20240801T093350Z
UID:1401-1723197600-1723204800@kgtenang.nadi.my
SUMMARY:Kelas Pengenalan Perkakasan Komputer
DESCRIPTION:Terbuka
URL:https://kgtenang.nadi.my/event/kelas-pengenalan-perkakasan-komputer-3/
LOCATION:NADI Kg Tenang\, NADI Kg Tenang
CATEGORIES:DEFAULT
END:VEVENT
BEGIN:VEVENT
DTSTART;TZID=UTC:20240809T143000
DTEND;TZID=UTC:20240809T163000
DTSTAMP:20260425T184649
CREATED:20240801T093457Z
LAST-MODIFIED:20240801T093457Z
UID:1402-1723213800-1723221000@kgtenang.nadi.my
SUMMARY:Kelas Media Baru (Facebook Page)
DESCRIPTION:Wanita
URL:https://kgtenang.nadi.my/event/kelas-media-baru-facebook-page/
LOCATION:NADI Kg Tenang\, NADI Kg Tenang
CATEGORIES:DEFAULT
END:VEVENT
BEGIN:VEVENT
DTSTART;TZID=UTC:20240816T100000
DTEND;TZID=UTC:20240816T110000
DTSTAMP:20260425T184649
CREATED:20240801T093716Z
LAST-MODIFIED:20240801T093716Z
UID:1403-1723802400-1723806000@kgtenang.nadi.my
SUMMARY:Kelas STEM: Robotic Car
DESCRIPTION:Terbuka
URL:https://kgtenang.nadi.my/event/kelas-stem-robotic-car/
LOCATION:NADI Kg Tenang\, NADI Kg Tenang
CATEGORIES:DEFAULT
END:VEVENT
BEGIN:VEVENT
DTSTART;TZID=UTC:20240816T110000
DTEND;TZID=UTC:20240816T120000
DTSTAMP:20260425T184649
CREATED:20240801T093858Z
LAST-MODIFIED:20240801T093858Z
UID:1404-1723806000-1723809600@kgtenang.nadi.my
SUMMARY:Kelas & Kuiz Wordwall (Semangat Merdeka)
DESCRIPTION:Terbuka
URL:https://kgtenang.nadi.my/event/kelas-kuiz-wordwall-semangat-merdeka-2/
LOCATION:NADI Kg Tenang\, NADI Kg Tenang
CATEGORIES:DEFAULT
END:VEVENT
BEGIN:VEVENT
DTSTART;TZID=UTC:20240816T120000
DTEND;TZID=UTC:20240816T130000
DTSTAMP:20260425T184649
CREATED:20240801T093942Z
LAST-MODIFIED:20240801T093942Z
UID:1405-1723809600-1723813200@kgtenang.nadi.my
SUMMARY:Google Challenge
DESCRIPTION:Dewasa
URL:https://kgtenang.nadi.my/event/google-challenge/
LOCATION:NADI Kg Tenang\, NADI Kg Tenang
CATEGORIES:DEFAULT
END:VEVENT
BEGIN:VEVENT
DTSTART;TZID=UTC:20240816T140000
DTEND;TZID=UTC:20240816T150000
DTSTAMP:20260425T184649
CREATED:20240801T094031Z
LAST-MODIFIED:20240801T094031Z
UID:1406-1723816800-1723820400@kgtenang.nadi.my
SUMMARY:Kelas STEM: Parachute
DESCRIPTION:Terbuka
URL:https://kgtenang.nadi.my/event/kelas-stem-parachute/
LOCATION:NADI Kg Tenang\, NADI Kg Tenang
CATEGORIES:DEFAULT
END:VEVENT
BEGIN:VEVENT
DTSTART;TZID=UTC:20240816T150000
DTEND;TZID=UTC:20240816T160000
DTSTAMP:20260425T184649
CREATED:20240801T094115Z
LAST-MODIFIED:20240801T094115Z
UID:1407-1723820400-1723824000@kgtenang.nadi.my
SUMMARY:Pertandingan  Sajak Kemerdekaan
DESCRIPTION:Belia/Lepasan sek/wanita
URL:https://kgtenang.nadi.my/event/pertandingan-sajak-kemerdekaan/
LOCATION:NADI Kg Tenang\, NADI Kg Tenang
CATEGORIES:DEFAULT
END:VEVENT
BEGIN:VEVENT
DTSTART;TZID=UTC:20240816T160000
DTEND;TZID=UTC:20240816T170000
DTSTAMP:20260425T184649
CREATED:20240801T094200Z
LAST-MODIFIED:20240801T094200Z
UID:1408-1723824000-1723827600@kgtenang.nadi.my
SUMMARY:Kelas STEM: Green
DESCRIPTION:Terbuka
URL:https://kgtenang.nadi.my/event/kelas-stem-green/
LOCATION:NADI Kg Tenang\, NADI Kg Tenang
CATEGORIES:DEFAULT
END:VEVENT
BEGIN:VEVENT
DTSTART;TZID=UTC:20240817T100000
DTEND;TZID=UTC:20240817T120000
DTSTAMP:20260425T184649
CREATED:20240801T094333Z
LAST-MODIFIED:20240801T094333Z
UID:1409-1723888800-1723896000@kgtenang.nadi.my
SUMMARY:Puzzle Kemerdekaan
DESCRIPTION:Terbuka
URL:https://kgtenang.nadi.my/event/puzzle-kemerdekaan/
LOCATION:NADI Kg Tenang\, NADI Kg Tenang
CATEGORIES:DEFAULT
END:VEVENT
BEGIN:VEVENT
DTSTART;TZID=UTC:20240817T140000
DTEND;TZID=UTC:20240817T160000
DTSTAMP:20260425T184649
CREATED:20240801T094424Z
LAST-MODIFIED:20240801T094424Z
UID:1410-1723903200-1723910400@kgtenang.nadi.my
SUMMARY:Pertandingan Mobile Lagend
DESCRIPTION:Terbuka
URL:https://kgtenang.nadi.my/event/pertandingan-mobile-lagend/
LOCATION:NADI Kg Tenang\, NADI Kg Tenang
CATEGORIES:DEFAULT
END:VEVENT
BEGIN:VEVENT
DTSTART;TZID=UTC:20240824T100000
DTEND;TZID=UTC:20240824T120000
DTSTAMP:20260425T184649
CREATED:20240801T094513Z
LAST-MODIFIED:20240801T094513Z
UID:1411-1724493600-1724500800@kgtenang.nadi.my
SUMMARY:Kelas Microsoft Word
DESCRIPTION:Terbuka
URL:https://kgtenang.nadi.my/event/kelas-microsoft-word-3/
LOCATION:NADI Kg Tenang\, NADI Kg Tenang
CATEGORIES:DEFAULT
END:VEVENT
BEGIN:VEVENT
DTSTART;TZID=UTC:20240824T140000
DTEND;TZID=UTC:20240824T160000
DTSTAMP:20260425T184649
CREATED:20240801T094601Z
LAST-MODIFIED:20240801T094601Z
UID:1412-1724508000-1724515200@kgtenang.nadi.my
SUMMARY:Kelas Suntingan Imej Produk
DESCRIPTION:Terbuka
URL:https://kgtenang.nadi.my/event/kelas-suntingan-imej-produk-2/
LOCATION:NADI Kg Tenang\, NADI Kg Tenang
CATEGORIES:DEFAULT
END:VEVENT
END:VCALENDAR