BEGIN:VCALENDAR
VERSION:2.0
PRODID:-//NADI Kampung Tenang, Labis - ECPv6.15.20//NONSGML v1.0//EN
CALSCALE:GREGORIAN
METHOD:PUBLISH
X-WR-CALNAME:NADI Kampung Tenang, Labis
X-ORIGINAL-URL:https://kgtenang.nadi.my
X-WR-CALDESC:Events for NADI Kampung Tenang, Labis
REFRESH-INTERVAL;VALUE=DURATION:PT1H
X-Robots-Tag:noindex
X-PUBLISHED-TTL:PT1H
BEGIN:VTIMEZONE
TZID:UTC
BEGIN:STANDARD
TZOFFSETFROM:+0000
TZOFFSETTO:+0000
TZNAME:UTC
DTSTART:20230101T000000
END:STANDARD
END:VTIMEZONE
BEGIN:VEVENT
DTSTART;TZID=UTC:20240902T143000
DTEND;TZID=UTC:20240902T153000
DTSTAMP:20260424T170536
CREATED:20240901T093340Z
LAST-MODIFIED:20240901T093340Z
UID:1413-1725287400-1725291000@kgtenang.nadi.my
SUMMARY:Kelas STEM: Dinamic System
DESCRIPTION:Pengunjung
URL:https://kgtenang.nadi.my/event/kelas-stem-dinamic-system/
LOCATION:NADI Kg Tenang\, NADI Kg Tenang
CATEGORIES:DEFAULT
END:VEVENT
BEGIN:VEVENT
DTSTART;TZID=UTC:20240903T100000
DTEND;TZID=UTC:20240903T120000
DTSTAMP:20260424T170536
CREATED:20240901T093427Z
LAST-MODIFIED:20240901T093427Z
UID:1414-1725357600-1725364800@kgtenang.nadi.my
SUMMARY:Kelas Video Promosi Produk (Canva)
DESCRIPTION:Pengunjung
URL:https://kgtenang.nadi.my/event/kelas-video-promosi-produk-canva/
LOCATION:NADI Kg Tenang\, NADI Kg Tenang
CATEGORIES:DEFAULT
END:VEVENT
BEGIN:VEVENT
DTSTART;TZID=UTC:20240906T100000
DTEND;TZID=UTC:20240906T120000
DTSTAMP:20260424T170536
CREATED:20240901T093518Z
LAST-MODIFIED:20240901T093518Z
UID:1415-1725616800-1725624000@kgtenang.nadi.my
SUMMARY:Kelas E-Pembelajaran :Puzzle Game
DESCRIPTION:Terbuka
URL:https://kgtenang.nadi.my/event/kelas-e-pembelajaran-puzzle-game/
LOCATION:NADI Kg Tenang\, NADI Kg Tenang
CATEGORIES:DEFAULT
END:VEVENT
BEGIN:VEVENT
DTSTART;TZID=UTC:20240907T100000
DTEND;TZID=UTC:20240907T120000
DTSTAMP:20260424T170536
CREATED:20240901T093558Z
LAST-MODIFIED:20240901T093558Z
UID:1416-1725703200-1725710400@kgtenang.nadi.my
SUMMARY:Kelas Microsoft Powerpoint
DESCRIPTION:Pelajar Universiti
URL:https://kgtenang.nadi.my/event/kelas-microsoft-powerpoint-2/
LOCATION:NADI Kg Tenang\, NADI Kg Tenang
CATEGORIES:DEFAULT
END:VEVENT
BEGIN:VEVENT
DTSTART;TZID=UTC:20240910T100000
DTEND;TZID=UTC:20240910T120000
DTSTAMP:20260424T170536
CREATED:20240901T093644Z
LAST-MODIFIED:20240901T093644Z
UID:1417-1725962400-1725969600@kgtenang.nadi.my
SUMMARY:Kelas Promosi Produk di Tiktok
DESCRIPTION:Terbuka
URL:https://kgtenang.nadi.my/event/kelas-promosi-produk-di-tiktok/
LOCATION:NADI Kg Tenang\, NADI Kg Tenang
CATEGORIES:DEFAULT
END:VEVENT
BEGIN:VEVENT
DTSTART;TZID=UTC:20240911T100000
DTEND;TZID=UTC:20240911T120000
DTSTAMP:20260424T170536
CREATED:20240901T093734Z
LAST-MODIFIED:20240901T093734Z
UID:1418-1726048800-1726056000@kgtenang.nadi.my
SUMMARY:Kelas Microsoft Word: Menaip surat
DESCRIPTION:Terbuka
URL:https://kgtenang.nadi.my/event/kelas-microsoft-word-menaip-surat/
LOCATION:NADI Kg Tenang\, NADI Kg Tenang
CATEGORIES:DEFAULT
END:VEVENT
BEGIN:VEVENT
DTSTART;TZID=UTC:20240913T100000
DTEND;TZID=UTC:20240913T120000
DTSTAMP:20260424T170536
CREATED:20240901T093816Z
LAST-MODIFIED:20240901T093816Z
UID:1419-1726221600-1726228800@kgtenang.nadi.my
SUMMARY:Kelas Latihan Keusahawanan (Logo Perniagaan)
DESCRIPTION:Usahawanita Aim
URL:https://kgtenang.nadi.my/event/kelas-latihan-keusahawanan-logo-perniagaan-2/
LOCATION:NADI Kg Tenang\, NADI Kg Tenang
CATEGORIES:DEFAULT
END:VEVENT
BEGIN:VEVENT
DTSTART;TZID=UTC:20240914T100000
DTEND;TZID=UTC:20240914T120000
DTSTAMP:20260424T170536
CREATED:20240901T093903Z
LAST-MODIFIED:20240901T093903Z
UID:1420-1726308000-1726315200@kgtenang.nadi.my
SUMMARY:Kelas Peta Minta Visual
DESCRIPTION:Terbuka
URL:https://kgtenang.nadi.my/event/kelas-peta-minta-visual/
LOCATION:NADI Kg Tenang\, NADI Kg Tenang
CATEGORIES:DEFAULT
END:VEVENT
BEGIN:VEVENT
DTSTART;TZID=UTC:20240920T100000
DTEND;TZID=UTC:20240920T110000
DTSTAMP:20260424T170536
CREATED:20240901T094012Z
LAST-MODIFIED:20240901T094012Z
UID:1421-1726826400-1726830000@kgtenang.nadi.my
SUMMARY:Kelas E-Pembelajaran (Kuiz Matematik)
DESCRIPTION:Terbuka
URL:https://kgtenang.nadi.my/event/kelas-e-pembelajaran-kuiz-matematik-3/
LOCATION:NADI Kg Tenang\, NADI Kg Tenang
CATEGORIES:DEFAULT
END:VEVENT
BEGIN:VEVENT
DTSTART;TZID=UTC:20240920T110000
DTEND;TZID=UTC:20240920T120000
DTSTAMP:20260424T170536
CREATED:20240901T094106Z
LAST-MODIFIED:20240901T094106Z
UID:1422-1726830000-1726833600@kgtenang.nadi.my
SUMMARY:Kelas E-book
DESCRIPTION:Terbuka
URL:https://kgtenang.nadi.my/event/kelas-e-book/
LOCATION:NADI Kg Tenang\, NADI Kg Tenang
CATEGORIES:DEFAULT
END:VEVENT
BEGIN:VEVENT
DTSTART;TZID=UTC:20240920T143000
DTEND;TZID=UTC:20240920T153000
DTSTAMP:20260424T170536
CREATED:20240901T094148Z
LAST-MODIFIED:20240901T094148Z
UID:1423-1726842600-1726846200@kgtenang.nadi.my
SUMMARY:Advokasi Klik Dengan Bijak di Kelas STEM : GREEN
DESCRIPTION:Terbuka
URL:https://kgtenang.nadi.my/event/advokasi-klik-dengan-bijak-di-kelas-stem-green/
LOCATION:NADI Kg Tenang\, NADI Kg Tenang
CATEGORIES:DEFAULT
END:VEVENT
BEGIN:VEVENT
DTSTART;TZID=UTC:20240920T153000
DTEND;TZID=UTC:20240920T163000
DTSTAMP:20260424T170536
CREATED:20240901T094246Z
LAST-MODIFIED:20240901T094246Z
UID:1424-1726846200-1726849800@kgtenang.nadi.my
SUMMARY:Kelas STEM: Air Honker
DESCRIPTION:Sekolah Rendah
URL:https://kgtenang.nadi.my/event/kelas-stem-air-honker/
LOCATION:NADI Kg Tenang\, NADI Kg Tenang
CATEGORIES:DEFAULT
END:VEVENT
BEGIN:VEVENT
DTSTART;TZID=UTC:20240921T100000
DTEND;TZID=UTC:20240921T120000
DTSTAMP:20260424T170536
CREATED:20240901T094342Z
LAST-MODIFIED:20240901T094342Z
UID:1425-1726912800-1726920000@kgtenang.nadi.my
SUMMARY:Kelas Powerpoint Level 2
DESCRIPTION:Pelajar Universiti
URL:https://kgtenang.nadi.my/event/kelas-powerpoint-level-2/
LOCATION:NADI Kg Tenang\, NADI Kg Tenang
CATEGORIES:DEFAULT
END:VEVENT
BEGIN:VEVENT
DTSTART;TZID=UTC:20240927T100000
DTEND;TZID=UTC:20240927T120000
DTSTAMP:20260424T170536
CREATED:20240901T094546Z
LAST-MODIFIED:20240901T094546Z
UID:1426-1727431200-1727438400@kgtenang.nadi.my
SUMMARY:Kelas Softskill: Kelas Membuat Cheesekut
DESCRIPTION:Sekolah Rendah
URL:https://kgtenang.nadi.my/event/kelas-softskill-kelas-membuat-cheesekut/
LOCATION:NADI Kg Tenang\, NADI Kg Tenang
CATEGORIES:DEFAULT
END:VEVENT
BEGIN:VEVENT
DTSTART;TZID=UTC:20240927T143000
DTEND;TZID=UTC:20240927T163000
DTSTAMP:20260424T170536
CREATED:20240901T094630Z
LAST-MODIFIED:20240901T094630Z
UID:1427-1727447400-1727454600@kgtenang.nadi.my
SUMMARY:Kelas & Pertandingan Mewarna
DESCRIPTION:Terbuka
URL:https://kgtenang.nadi.my/event/kelas-pertandingan-mewarna/
LOCATION:NADI Kg Tenang\, NADI Kg Tenang
CATEGORIES:DEFAULT
END:VEVENT
END:VCALENDAR