BEGIN:VCALENDAR
VERSION:2.0
PRODID:-//NADI Kampung Tenang, Labis - ECPv6.15.13.1//NONSGML v1.0//EN
CALSCALE:GREGORIAN
METHOD:PUBLISH
X-WR-CALNAME:NADI Kampung Tenang, Labis
X-ORIGINAL-URL:https://kgtenang.nadi.my
X-WR-CALDESC:Events for NADI Kampung Tenang, Labis
REFRESH-INTERVAL;VALUE=DURATION:PT1H
X-Robots-Tag:noindex
X-PUBLISHED-TTL:PT1H
BEGIN:VTIMEZONE
TZID:UTC
BEGIN:STANDARD
TZOFFSETFROM:+0000
TZOFFSETTO:+0000
TZNAME:UTC
DTSTART:20230101T000000
END:STANDARD
END:VTIMEZONE
BEGIN:VEVENT
DTSTART;TZID=UTC:20241006T080000
DTEND;TZID=UTC:20241006T100000
DTSTAMP:20260421T213330
CREATED:20241002T111022Z
LAST-MODIFIED:20241002T111022Z
UID:1429-1728201600-1728208800@kgtenang.nadi.my
SUMMARY:Advokasi Klik Dengan Bijak di SMK Munshi Ibrahim
DESCRIPTION:Advokasi Klik Dengan Bijak di SMK Munshi Ibrahim
URL:https://kgtenang.nadi.my/event/advokasi-klik-dengan-bijak-di-smk-munshi-ibrahim/
LOCATION:SMK Munshi Ibrahim\, SMK Munshi Ibrahim
CATEGORIES:DEFAULT
END:VEVENT
BEGIN:VEVENT
DTSTART;TZID=UTC:20241007T080000
DTEND;TZID=UTC:20241007T100000
DTSTAMP:20260421T213330
CREATED:20241002T111131Z
LAST-MODIFIED:20241002T111131Z
UID:1430-1728288000-1728295200@kgtenang.nadi.my
SUMMARY:Advokasi Klik Dengan Bijak di SMK Labis
DESCRIPTION:Advokasi Klik Dengan Bijak di SMK Labis
URL:https://kgtenang.nadi.my/event/advokasi-klik-dengan-bijak-di-smk-labis/
CATEGORIES:DEFAULT
END:VEVENT
BEGIN:VEVENT
DTSTART;TZID=UTC:20241008T100000
DTEND;TZID=UTC:20241008T110000
DTSTAMP:20260421T213330
CREATED:20241003T100201Z
LAST-MODIFIED:20241003T100201Z
UID:1433-1728381600-1728385200@kgtenang.nadi.my
SUMMARY:Advokasi Klik Dengan Bijak di SMK Kamarul Ariffin
DESCRIPTION:Advokasi Klik Dengan Bijak di SMK Kamarul Ariffin
URL:https://kgtenang.nadi.my/event/advokasi-klik-dengan-bijak-di-smk-kamarul-ariffin/
LOCATION:SMK Kamarul Ariffin\, SMK Kamarul Ariffin
CATEGORIES:DEFAULT
END:VEVENT
BEGIN:VEVENT
DTSTART;TZID=UTC:20241009T090000
DTEND;TZID=UTC:20241009T100000
DTSTAMP:20260421T213330
CREATED:20241003T100350Z
LAST-MODIFIED:20241003T100350Z
UID:1435-1728464400-1728468000@kgtenang.nadi.my
SUMMARY:Advokasi Klik Dengan Bijak di SJK (C) Labis
DESCRIPTION:Advokasi Klik Dengan Bijak di SJK (C) Labis
URL:https://kgtenang.nadi.my/event/advokasi-klik-dengan-bijak-di-sjk-c-labis/
LOCATION:SJK (C) Labis\, SJK (C) Labis
CATEGORIES:DEFAULT
END:VEVENT
BEGIN:VEVENT
DTSTART;TZID=UTC:20241010T090000
DTEND;TZID=UTC:20241010T100000
DTSTAMP:20260421T213330
CREATED:20241003T100627Z
LAST-MODIFIED:20241003T100627Z
UID:1437-1728550800-1728554400@kgtenang.nadi.my
SUMMARY:Advokasi Klik Dengan Bijak di SK Sri Labis
DESCRIPTION:Pelajar Sekolah
URL:https://kgtenang.nadi.my/event/advokasi-klik-dengan-bijak-di-sk-sri-labis/
LOCATION:SK Sri Labis\, SK Sri Labis
CATEGORIES:DEFAULT
END:VEVENT
BEGIN:VEVENT
DTSTART;TZID=UTC:20241010T100000
DTEND;TZID=UTC:20241010T110000
DTSTAMP:20260421T213330
CREATED:20241002T130341Z
LAST-MODIFIED:20241002T130341Z
UID:1431-1728554400-1728558000@kgtenang.nadi.my
SUMMARY:Advokasi Klik Dengan Bijak di SK Labis
DESCRIPTION:Advokasi Klik Dengan Bijak di SK Labis
URL:https://kgtenang.nadi.my/event/advokasi-klik-dengan-bijak-di-sk-labis/
CATEGORIES:DEFAULT
END:VEVENT
BEGIN:VEVENT
DTSTART;TZID=UTC:20241013T090000
DTEND;TZID=UTC:20241013T100000
DTSTAMP:20260421T213330
CREATED:20241003T101056Z
LAST-MODIFIED:20241003T101056Z
UID:1439-1728810000-1728813600@kgtenang.nadi.my
SUMMARY:Advokasi Klik Dengan Bijak di SJK (T) Labis
DESCRIPTION:Pelajar Sekolah
URL:https://kgtenang.nadi.my/event/advokasi-klik-dengan-bijak-di-sjk-t-labis/
LOCATION:SJK (T) Labis\, SJK (T) Labis
CATEGORIES:DEFAULT
END:VEVENT
BEGIN:VEVENT
DTSTART;TZID=UTC:20241013T110000
DTEND;TZID=UTC:20241013T120000
DTSTAMP:20260421T213330
CREATED:20241003T101229Z
LAST-MODIFIED:20241003T101229Z
UID:1441-1728817200-1728820800@kgtenang.nadi.my
SUMMARY:Advokasi Klik Dengan Bijak di SJK (C) Karas
DESCRIPTION:Pelajar Sekolah
URL:https://kgtenang.nadi.my/event/advokasi-klik-dengan-bijak-di-sjk-c-karas/
LOCATION:SJK (C) Karas\, SJK (C) Karas
CATEGORIES:DEFAULT
END:VEVENT
BEGIN:VEVENT
DTSTART;TZID=UTC:20241014T090000
DTEND;TZID=UTC:20241014T100000
DTSTAMP:20260421T213330
CREATED:20241003T101329Z
LAST-MODIFIED:20241003T101329Z
UID:1443-1728896400-1728900000@kgtenang.nadi.my
SUMMARY:Advokasi Klik Dengan Bijak di SMK Bekok
DESCRIPTION:Pelajar Sekolah
URL:https://kgtenang.nadi.my/event/advokasi-klik-dengan-bijak-di-smk-bekok/
LOCATION:SMK Bekok\, SMK Bekok
CATEGORIES:DEFAULT
END:VEVENT
BEGIN:VEVENT
DTSTART;TZID=UTC:20241015T090000
DTEND;TZID=UTC:20241015T100000
DTSTAMP:20260421T213330
CREATED:20241003T101455Z
LAST-MODIFIED:20241003T101455Z
UID:1445-1728982800-1728986400@kgtenang.nadi.my
SUMMARY:Advokasi Klik Dengan Bijak di SJK (C) Bekok
DESCRIPTION:Pelajar Sekolah
URL:https://kgtenang.nadi.my/event/advokasi-klik-dengan-bijak-di-sjk-c-bekok/
LOCATION:SJK (C) Bekok\, SJK (C) Bekok
CATEGORIES:DEFAULT
END:VEVENT
BEGIN:VEVENT
DTSTART;TZID=UTC:20241015T110000
DTEND;TZID=UTC:20241015T120000
DTSTAMP:20260421T213330
CREATED:20241003T101627Z
LAST-MODIFIED:20241003T101627Z
UID:1447-1728990000-1728993600@kgtenang.nadi.my
SUMMARY:Advokasi Klik Dengan Bijak di SK Seri Bekok
DESCRIPTION:Pelajar Sekolah
URL:https://kgtenang.nadi.my/event/advokasi-klik-dengan-bijak-di-sk-seri-bekok/
LOCATION:SK Seri Bekok\, SK Seri Bekok
CATEGORIES:DEFAULT
END:VEVENT
BEGIN:VEVENT
DTSTART;TZID=UTC:20241016T090000
DTEND;TZID=UTC:20241016T100000
DTSTAMP:20260421T213330
CREATED:20241003T101757Z
LAST-MODIFIED:20241003T101757Z
UID:1449-1729069200-1729072800@kgtenang.nadi.my
SUMMARY:Advokasi Klik Dengan Bijak di SMK Seri Bali
DESCRIPTION:Pelajar Sekolah
URL:https://kgtenang.nadi.my/event/advokasi-klik-dengan-bijak-di-smk-seri-bali/
LOCATION:SMK Seri Bali\, SMK Seri Bali
CATEGORIES:DEFAULT
END:VEVENT
BEGIN:VEVENT
DTSTART;TZID=UTC:20241017T090000
DTEND;TZID=UTC:20241017T100000
DTSTAMP:20260421T213330
CREATED:20241003T101933Z
LAST-MODIFIED:20241003T101933Z
UID:1451-1729155600-1729159200@kgtenang.nadi.my
SUMMARY:Advokasi Klik Dengan Bijak di SJK (C) CHAAH
DESCRIPTION:Pelajar Sekolah
URL:https://kgtenang.nadi.my/event/advokasi-klik-dengan-bijak-di-sjk-c-chaah/
LOCATION:SJK (C) Chaah\, SJK (C) Chaah
CATEGORIES:DEFAULT
END:VEVENT
BEGIN:VEVENT
DTSTART;TZID=UTC:20241017T110000
DTEND;TZID=UTC:20241017T120000
DTSTAMP:20260421T213330
CREATED:20241003T102045Z
LAST-MODIFIED:20241003T102045Z
UID:1453-1729162800-1729166400@kgtenang.nadi.my
SUMMARY:Advokasi Klik Dengan Bijak di SJK (T) Cantuman Chaah
DESCRIPTION:Pelajar Sekolah
URL:https://kgtenang.nadi.my/event/advokasi-klik-dengan-bijak-di-sjk-t-cantuman-chaah/
LOCATION:SJK (T) Cantuman Chaah\, SJK (T) Cantuman Chaah
CATEGORIES:DEFAULT
END:VEVENT
BEGIN:VEVENT
DTSTART;TZID=UTC:20241019T140000
DTEND;TZID=UTC:20241019T160000
DTSTAMP:20260421T213330
CREATED:20241003T160918Z
LAST-MODIFIED:20241003T160918Z
UID:1474-1729346400-1729353600@kgtenang.nadi.my
SUMMARY:Pertandingan MLBB Peringakat NADI Kg. Tenang
DESCRIPTION:Pelajar Sekolah
URL:https://kgtenang.nadi.my/event/pertandingan-mlbb-peringakat-nadi-kg-tenang/
LOCATION:NADI Kg Tenang\, NADI Kg Tenang
CATEGORIES:DEFAULT
END:VEVENT
BEGIN:VEVENT
DTSTART;TZID=UTC:20241020T090000
DTEND;TZID=UTC:20241020T100000
DTSTAMP:20260421T213330
CREATED:20241003T102143Z
LAST-MODIFIED:20241003T102143Z
UID:1455-1729414800-1729418400@kgtenang.nadi.my
SUMMARY:Advokasi Klik Dengan Bijak di SMK Chaah
DESCRIPTION:Pelajar Sekolah
URL:https://kgtenang.nadi.my/event/advokasi-klik-dengan-bijak-di-smk-chaah/
LOCATION:SMK Chaah\, SMK Chaah
CATEGORIES:DEFAULT
END:VEVENT
BEGIN:VEVENT
DTSTART;TZID=UTC:20241020T110000
DTEND;TZID=UTC:20241020T120000
DTSTAMP:20260421T213330
CREATED:20241003T102638Z
LAST-MODIFIED:20241003T102638Z
UID:1457-1729422000-1729425600@kgtenang.nadi.my
SUMMARY:Advokasi Klik Dengan Bijak di SK Seri Bali
DESCRIPTION:Pelajar Sekolah
URL:https://kgtenang.nadi.my/event/advokasi-klik-dengan-bijak-di-sk-seri-bali/
LOCATION:SK Seri Bali\, SK Seri Bali
CATEGORIES:DEFAULT
END:VEVENT
BEGIN:VEVENT
DTSTART;TZID=UTC:20241021T090000
DTEND;TZID=UTC:20241021T100000
DTSTAMP:20260421T213330
CREATED:20241003T102835Z
LAST-MODIFIED:20241003T102835Z
UID:1459-1729501200-1729504800@kgtenang.nadi.my
SUMMARY:Advokasi Klik Dengan Bijak di SK Desa Temu Jodoh
DESCRIPTION:Pelajar Sekolah
URL:https://kgtenang.nadi.my/event/advokasi-klik-dengan-bijak-di-sk-desa-temu-jodoh/
LOCATION:SK Desa Temu Jodoh\, SK Desa Temu Jodoh
CATEGORIES:DEFAULT
END:VEVENT
BEGIN:VEVENT
DTSTART;TZID=UTC:20241023T090000
DTEND;TZID=UTC:20241023T100000
DTSTAMP:20260421T213330
CREATED:20241003T102940Z
LAST-MODIFIED:20241003T102940Z
UID:1461-1729674000-1729677600@kgtenang.nadi.my
SUMMARY:Advokasi Klik Dengan Bijak di SK Segamat Baru
DESCRIPTION:Pelajar Sekolah
URL:https://kgtenang.nadi.my/event/advokasi-klik-dengan-bijak-di-sk-segamat-baru/
LOCATION:SK Segamat Baru\, SK Segamat Baru
CATEGORIES:DEFAULT
END:VEVENT
BEGIN:VEVENT
DTSTART;TZID=UTC:20241023T110000
DTEND;TZID=UTC:20241023T120000
DTSTAMP:20260421T213330
CREATED:20241003T103053Z
LAST-MODIFIED:20241003T103053Z
UID:1463-1729681200-1729684800@kgtenang.nadi.my
SUMMARY:Advoakasi Klik Dengan Bijak di SK Bandar Putra
DESCRIPTION:Pelajar Sekolah
URL:https://kgtenang.nadi.my/event/advoakasi-klik-dengan-bijak-di-sk-bandar-putra/
LOCATION:SK Bandar Putra\, SK Bandar Putra
CATEGORIES:DEFAULT
END:VEVENT
BEGIN:VEVENT
DTSTART;TZID=UTC:20241024T090000
DTEND;TZID=UTC:20241024T100000
DTSTAMP:20260421T213330
CREATED:20241003T103159Z
LAST-MODIFIED:20241003T103159Z
UID:1465-1729760400-1729764000@kgtenang.nadi.my
SUMMARY:Advokasi Klik Dengan Bijak di SK Melayu Raya
DESCRIPTION:Pelajar Sekolah
URL:https://kgtenang.nadi.my/event/advokasi-klik-dengan-bijak-di-sk-melayu-raya/
LOCATION:SK Melayu Raya\, SK Melayu Raya
CATEGORIES:DEFAULT
END:VEVENT
BEGIN:VEVENT
DTSTART;TZID=UTC:20241028T110000
DTEND;TZID=UTC:20241028T120000
DTSTAMP:20260421T213330
CREATED:20241003T103255Z
LAST-MODIFIED:20241003T103255Z
UID:1467-1730113200-1730116800@kgtenang.nadi.my
SUMMARY:Advokasi Klik Dengan Bijak di SK Kampong Tenang
DESCRIPTION:Pelajar Sekolah
URL:https://kgtenang.nadi.my/event/advokasi-klik-dengan-bijak-di-sk-kampong-tenang/
LOCATION:SK Kampong Tenang\, SK Kampong Tenang
CATEGORIES:DEFAULT
END:VEVENT
BEGIN:VEVENT
DTSTART;TZID=UTC:20241029T090000
DTEND;TZID=UTC:20241029T100000
DTSTAMP:20260421T213330
CREATED:20241003T103433Z
LAST-MODIFIED:20241003T103433Z
UID:1469-1730192400-1730196000@kgtenang.nadi.my
SUMMARY:Advokasi Klik Dengan Bijak di SJK (C) Tenang
DESCRIPTION:Pelajar Sekolah
URL:https://kgtenang.nadi.my/event/advokasi-klik-dengan-bijak-di-sjk-c-tenang/
LOCATION:SJK (C) Tenang\, SJK (C) Tenang
CATEGORIES:DEFAULT
END:VEVENT
BEGIN:VEVENT
DTSTART;TZID=UTC:20241029T110000
DTEND;TZID=UTC:20241029T120000
DTSTAMP:20260421T213330
CREATED:20241003T110709Z
LAST-MODIFIED:20241003T110709Z
UID:1471-1730199600-1730203200@kgtenang.nadi.my
SUMMARY:Advokasi Klik Dengan Bijak di SK Pekan Air Panas
DESCRIPTION:Pelajar Sekolah
URL:https://kgtenang.nadi.my/event/advokasi-klik-dengan-bijak-di-sk-pekan-air-panas/
LOCATION:SK Pekan Air Panas\, SK Pekan Air Panas
CATEGORIES:DEFAULT
END:VEVENT
BEGIN:VEVENT
DTSTART;TZID=UTC:20241030T090000
DTEND;TZID=UTC:20241030T100000
DTSTAMP:20260421T213330
CREATED:20241003T110806Z
LAST-MODIFIED:20241003T110806Z
UID:1473-1730278800-1730282400@kgtenang.nadi.my
SUMMARY:Advokasi Klik Dengan Bijak di SK Sawah Baru
DESCRIPTION:Pelajar Sekolah
URL:https://kgtenang.nadi.my/event/advokasi-klik-dengan-bijak-di-sk-sawah-baru/
LOCATION:SK Sawah Baru\, SK Sawah Baru
CATEGORIES:DEFAULT
END:VEVENT
END:VCALENDAR